BEGIN:VCALENDAR
VERSION:2.0
PRODID:-//LIA - ECPv5.0.2//NONSGML v1.0//EN
CALSCALE:GREGORIAN
METHOD:PUBLISH
X-WR-CALNAME:LIA
X-ORIGINAL-URL:https://lia.com.au
X-WR-CALDESC:Events for LIA
BEGIN:VTIMEZONE
TZID:Australia/Sydney
BEGIN:STANDARD
TZOFFSETFROM:+1100
TZOFFSETTO:+1000
TZNAME:AEST
DTSTART:20190406T160000
END:STANDARD
BEGIN:DAYLIGHT
TZOFFSETFROM:+1000
TZOFFSETTO:+1100
TZNAME:AEDT
DTSTART:20191005T160000
END:DAYLIGHT
END:VTIMEZONE
BEGIN:VEVENT
DTSTART;TZID=Australia/Sydney:20190402T180000
DTEND;TZID=Australia/Sydney:20190402T233000
DTSTAMP:20200226T041853
CREATED:20190306T225020Z
LAST-MODIFIED:20190307T000951Z
UID:2203-1554228000-1554247800@lia.com.au
SUMMARY:Blueprint for Sustainable Practices
DESCRIPTION:Join in this plant visit to see how one company is finding\nbetter ways and systems to achieve the reduction in consumption of raw materials and the creation of waste. \nThe tour will conclude with a dinner and a networking opportunity\, during which you will have the chance to\nhear an overview of the process involving sustainability\, recycling and energy reduction. \nCLICK HERE TO DOWNLOAD PDF \n
URL:https://lia.com.au/event/blueprint-for-sustainable-practices/
LOCATION:Fuji Xerox – Sydney\, 1 -3 Shirley Street\, Rosehill\, NSW\, 2142\, Australia
CATEGORIES:NEW SOUTH WALES,QUEENSLAND,VICTORIA,WA AND SA
ATTACH;FMTTYPE=image/jpeg:https://lia.com.au/wp-content/uploads/2019/03/LIA-April-invitation-1.jpg
END:VEVENT
END:VCALENDAR